BEGIN:VCALENDAR
VERSION:2.0
PRODID:-//Forest Hills Tidal Waves - ECPv6.15.20//NONSGML v1.0//EN
CALSCALE:GREGORIAN
METHOD:PUBLISH
X-WR-CALNAME:Forest Hills Tidal Waves
X-ORIGINAL-URL:https://foresthillstidalwaves.com
X-WR-CALDESC:Events for Forest Hills Tidal Waves
REFRESH-INTERVAL;VALUE=DURATION:PT1H
X-Robots-Tag:noindex
X-PUBLISHED-TTL:PT1H
BEGIN:VTIMEZONE
TZID:America/New_York
BEGIN:DAYLIGHT
TZOFFSETFROM:-0500
TZOFFSETTO:-0400
TZNAME:EDT
DTSTART:20250309T070000
END:DAYLIGHT
BEGIN:STANDARD
TZOFFSETFROM:-0400
TZOFFSETTO:-0500
TZNAME:EST
DTSTART:20251102T060000
END:STANDARD
BEGIN:DAYLIGHT
TZOFFSETFROM:-0500
TZOFFSETTO:-0400
TZNAME:EDT
DTSTART:20260308T070000
END:DAYLIGHT
BEGIN:STANDARD
TZOFFSETFROM:-0400
TZOFFSETTO:-0500
TZNAME:EST
DTSTART:20261101T060000
END:STANDARD
BEGIN:DAYLIGHT
TZOFFSETFROM:-0500
TZOFFSETTO:-0400
TZNAME:EDT
DTSTART:20270314T070000
END:DAYLIGHT
BEGIN:STANDARD
TZOFFSETFROM:-0400
TZOFFSETTO:-0500
TZNAME:EST
DTSTART:20271107T060000
END:STANDARD
END:VTIMEZONE
BEGIN:VEVENT
DTSTART;TZID=America/New_York:20260701T090000
DTEND;TZID=America/New_York:20260701T113000
DTSTAMP:20260424T165421
CREATED:20250804T164246Z
LAST-MODIFIED:20251012T235957Z
UID:1810-1782896400-1782905400@foresthillstidalwaves.com
SUMMARY:Picture Day
DESCRIPTION:Swim team picture day.
URL:https://foresthillstidalwaves.com/event/picture-day-3/
LOCATION:Forest Hills\, 4049 Skyview Drive\, Brunswick\, OH\, 44212\, United States
CATEGORIES:Team
END:VEVENT
BEGIN:VEVENT
DTSTART;TZID=America/New_York:20260701T180000
DTEND;TZID=America/New_York:20260701T210000
DTSTAMP:20260424T165421
CREATED:20260124T204702Z
LAST-MODIFIED:20260124T204715Z
UID:1934-1782928800-1782939600@foresthillstidalwaves.com
SUMMARY:Swings and Things
DESCRIPTION:Additional cost per swimmer (~$20) with three hours of go karts\, laser tag\, mini golf\, and bumper boats! A parent is required to attend but does not need to participate. Cash or check will be accepted before checking in for the event.
URL:https://foresthillstidalwaves.com/event/swings-and-things/
LOCATION:8501 Stearns Rd\, Olmsted Falls\, OH 44138\, 8501 Stearns Rd\, Olmsted Falls\, OH\, 44138\, United States
CATEGORIES:Key dates
END:VEVENT
BEGIN:VEVENT
DTSTART;TZID=America/New_York:20260723T090000
DTEND;TZID=America/New_York:20260723T230000
DTSTAMP:20260424T165421
CREATED:20260124T204428Z
LAST-MODIFIED:20260124T204428Z
UID:1932-1784797200-1784847600@foresthillstidalwaves.com
SUMMARY:Final Swim Lesson
DESCRIPTION:
URL:https://foresthillstidalwaves.com/event/final-swim-lesson/
LOCATION:Forest Hills\, 4049 Skyview Drive\, Brunswick\, OH\, 44212\, United States
CATEGORIES:Lessons
END:VEVENT
BEGIN:VEVENT
DTSTART;TZID=America/New_York:20260726T180000
DTEND;TZID=America/New_York:20260726T220000
DTSTAMP:20260424T165421
CREATED:20250804T164441Z
LAST-MODIFIED:20260124T210746Z
UID:1812-1785088800-1785103200@foresthillstidalwaves.com
SUMMARY:Swim Team Awards Party
DESCRIPTION:
URL:https://foresthillstidalwaves.com/event/awards-party/
LOCATION:Forest Hills\, 4049 Skyview Drive\, Brunswick\, OH\, 44212\, United States
CATEGORIES:Team
END:VEVENT
END:VCALENDAR