BEGIN:VCALENDAR
VERSION:2.0
PRODID:-//Forest Hills Tidal Waves - ECPv6.15.20//NONSGML v1.0//EN
CALSCALE:GREGORIAN
METHOD:PUBLISH
X-ORIGINAL-URL:https://foresthillstidalwaves.com
X-WR-CALDESC:Events for Forest Hills Tidal Waves
REFRESH-INTERVAL;VALUE=DURATION:PT1H
X-Robots-Tag:noindex
X-PUBLISHED-TTL:PT1H
BEGIN:VTIMEZONE
TZID:America/New_York
BEGIN:DAYLIGHT
TZOFFSETFROM:-0500
TZOFFSETTO:-0400
TZNAME:EDT
DTSTART:20230312T070000
END:DAYLIGHT
BEGIN:STANDARD
TZOFFSETFROM:-0400
TZOFFSETTO:-0500
TZNAME:EST
DTSTART:20231105T060000
END:STANDARD
BEGIN:DAYLIGHT
TZOFFSETFROM:-0500
TZOFFSETTO:-0400
TZNAME:EDT
DTSTART:20240310T070000
END:DAYLIGHT
BEGIN:STANDARD
TZOFFSETFROM:-0400
TZOFFSETTO:-0500
TZNAME:EST
DTSTART:20241103T060000
END:STANDARD
BEGIN:DAYLIGHT
TZOFFSETFROM:-0500
TZOFFSETTO:-0400
TZNAME:EDT
DTSTART:20250309T070000
END:DAYLIGHT
BEGIN:STANDARD
TZOFFSETFROM:-0400
TZOFFSETTO:-0500
TZNAME:EST
DTSTART:20251102T060000
END:STANDARD
END:VTIMEZONE
BEGIN:VEVENT
DTSTART;TZID=America/New_York:20240702T180000
DTEND;TZID=America/New_York:20240702T210000
DTSTAMP:20260425T212804
CREATED:20230805T153857Z
LAST-MODIFIED:20230805T153857Z
UID:1308-1719943200-1719954000@foresthillstidalwaves.com
SUMMARY:Meet vs Bedford
DESCRIPTION:Warm ups at 6:00. Meet start at 6:30.
URL:https://foresthillstidalwaves.com/event/meet-vs-bedford-3/
LOCATION:Forest Hills\, 4049 Skyview Drive\, Brunswick\, OH\, 44212\, United States
CATEGORIES:Home meet
END:VEVENT
BEGIN:VEVENT
DTSTART;TZID=America/New_York:20240709T180000
DTEND;TZID=America/New_York:20240709T210000
DTSTAMP:20260425T212804
CREATED:20230805T152449Z
LAST-MODIFIED:20230805T152449Z
UID:1290-1720548000-1720558800@foresthillstidalwaves.com
SUMMARY:Meet vs Independence
DESCRIPTION:Warm ups at 6:00. Meet start at 6:30.
URL:https://foresthillstidalwaves.com/event/meet-vs-independence-2/
LOCATION:Forest Hills\, 4049 Skyview Drive\, Brunswick\, OH\, 44212\, United States
CATEGORIES:Home meet
END:VEVENT
BEGIN:VEVENT
DTSTART;TZID=America/New_York:20240710T090000
DTEND;TZID=America/New_York:20240710T113000
DTSTAMP:20260425T212804
CREATED:20240617T023912Z
LAST-MODIFIED:20240617T023912Z
UID:1480-1720602000-1720611000@foresthillstidalwaves.com
SUMMARY:Picture Day
DESCRIPTION:Pictures during practice for swim team.
URL:https://foresthillstidalwaves.com/event/picture-day-2/
LOCATION:Forest Hills\, 4049 Skyview Drive\, Brunswick\, OH\, 44212\, United States
CATEGORIES:Team
END:VEVENT
BEGIN:VEVENT
DTSTART;TZID=America/New_York:20240713T083000
DTEND;TZID=America/New_York:20240713T113000
DTSTAMP:20260425T212804
CREATED:20230805T152615Z
LAST-MODIFIED:20230805T152615Z
UID:1292-1720859400-1720870200@foresthillstidalwaves.com
SUMMARY:Meet @ Independence
DESCRIPTION:Warm ups at 8:15. Meet start at 8:30.
URL:https://foresthillstidalwaves.com/event/meet-independence-2/
LOCATION:Independence\, 6200 Elmwood Avenue\, Independence\, OH\, 44131\, United States
CATEGORIES:Away meet
END:VEVENT
BEGIN:VEVENT
DTSTART;TZID=America/New_York:20240716T180000
DTEND;TZID=America/New_York:20240716T210000
DTSTAMP:20260425T212804
CREATED:20230805T152709Z
LAST-MODIFIED:20230805T152709Z
UID:1294-1721152800-1721163600@foresthillstidalwaves.com
SUMMARY:Meet @ Cuyahoga Heights
DESCRIPTION:Warm ups at 5:45. Meet start at 6:00.
URL:https://foresthillstidalwaves.com/event/meet-cuyahoga-heights-2/
LOCATION:Cuyahoga Heights\, 4863 East 71st Street\, Cuyahoga Heights\, OH\, 44125\, United States
CATEGORIES:Away meet
END:VEVENT
BEGIN:VEVENT
DTSTART;TZID=America/New_York:20240718T180000
DTEND;TZID=America/New_York:20240718T203000
DTSTAMP:20260425T212804
CREATED:20230805T152749Z
LAST-MODIFIED:20240302T164347Z
UID:1296-1721325600-1721334600@foresthillstidalwaves.com
SUMMARY:Meet vs Cuyahoga Heights
DESCRIPTION:Warm ups at 6:00. Meet start at 6:30.
URL:https://foresthillstidalwaves.com/event/meet-vs-cuyahoga-heights-3/
LOCATION:Forest Hills\, 4049 Skyview Drive\, Brunswick\, OH\, 44212\, United States
CATEGORIES:Home meet
END:VEVENT
BEGIN:VEVENT
DTSTART;TZID=America/New_York:20240719T180000
DTEND;TZID=America/New_York:20240719T220000
DTSTAMP:20260425T212804
CREATED:20230805T152921Z
LAST-MODIFIED:20240613T164731Z
UID:1298-1721412000-1721426400@foresthillstidalwaves.com
SUMMARY:Relay Meet
DESCRIPTION:The relay meet is a league-wide meet for ages 11 and up. The meet will be made up of many styles of relays\, some real events and some not.
URL:https://foresthillstidalwaves.com/event/relay-meet/
LOCATION:Forest Hills\, 4049 Skyview Drive\, Brunswick\, OH\, 44212\, United States
CATEGORIES:Home meet
END:VEVENT
BEGIN:VEVENT
DTSTART;TZID=America/New_York:20240725T093000
DTEND;TZID=America/New_York:20240725T113000
DTSTAMP:20260425T212804
CREATED:20240302T163458Z
LAST-MODIFIED:20240711T155122Z
UID:1429-1721899800-1721907000@foresthillstidalwaves.com
SUMMARY:Swim Lesson Awards Day
DESCRIPTION:
URL:https://foresthillstidalwaves.com/event/swim-lesson-awards-day/
LOCATION:Forest Hills\, 4049 Skyview Drive\, Brunswick\, OH\, 44212\, United States
CATEGORIES:Lessons
END:VEVENT
BEGIN:VEVENT
DTSTART;TZID=America/New_York:20240727T080000
DTEND;TZID=America/New_York:20240727T150000
DTSTAMP:20260425T212804
CREATED:20230805T153039Z
LAST-MODIFIED:20240613T164720Z
UID:1300-1722067200-1722092400@foresthillstidalwaves.com
SUMMARY:Champs @ Independence
DESCRIPTION:
URL:https://foresthillstidalwaves.com/event/champs-independence-2/
LOCATION:Independence\, 6200 Elmwood Avenue\, Independence\, OH\, 44131\, United States
CATEGORIES:Team
END:VEVENT
BEGIN:VEVENT
DTSTART;TZID=America/New_York:20240728T180000
DTEND;TZID=America/New_York:20240728T210000
DTSTAMP:20260425T212804
CREATED:20240402T162814Z
LAST-MODIFIED:20240613T164712Z
UID:1444-1722189600-1722200400@foresthillstidalwaves.com
SUMMARY:Swim Team Awards Party
DESCRIPTION:Join us for a pizza and pool party\, where swimmers will receive their awards and ribbons/medals from champs!
URL:https://foresthillstidalwaves.com/event/swim-team-awards-party/
LOCATION:Forest Hills\, 4049 Skyview Drive\, Brunswick\, OH\, 44212\, United States
CATEGORIES:Team
END:VEVENT
END:VCALENDAR