BEGIN:VCALENDAR
VERSION:2.0
PRODID:-//Forest Hills Tidal Waves - ECPv6.15.20//NONSGML v1.0//EN
CALSCALE:GREGORIAN
METHOD:PUBLISH
X-WR-CALNAME:Forest Hills Tidal Waves
X-ORIGINAL-URL:https://foresthillstidalwaves.com
X-WR-CALDESC:Events for Forest Hills Tidal Waves
REFRESH-INTERVAL;VALUE=DURATION:PT1H
X-Robots-Tag:noindex
X-PUBLISHED-TTL:PT1H
BEGIN:VTIMEZONE
TZID:America/New_York
BEGIN:DAYLIGHT
TZOFFSETFROM:-0500
TZOFFSETTO:-0400
TZNAME:EDT
DTSTART:20230312T070000
END:DAYLIGHT
BEGIN:STANDARD
TZOFFSETFROM:-0400
TZOFFSETTO:-0500
TZNAME:EST
DTSTART:20231105T060000
END:STANDARD
BEGIN:DAYLIGHT
TZOFFSETFROM:-0500
TZOFFSETTO:-0400
TZNAME:EDT
DTSTART:20240310T070000
END:DAYLIGHT
BEGIN:STANDARD
TZOFFSETFROM:-0400
TZOFFSETTO:-0500
TZNAME:EST
DTSTART:20241103T060000
END:STANDARD
BEGIN:DAYLIGHT
TZOFFSETFROM:-0500
TZOFFSETTO:-0400
TZNAME:EDT
DTSTART:20250309T070000
END:DAYLIGHT
BEGIN:STANDARD
TZOFFSETFROM:-0400
TZOFFSETTO:-0500
TZNAME:EST
DTSTART:20251102T060000
END:STANDARD
END:VTIMEZONE
BEGIN:VEVENT
DTSTART;TZID=America/New_York:20240603T090000
DTEND;TZID=America/New_York:20240603T113000
DTSTAMP:20260425T230857
CREATED:20230805T153118Z
LAST-MODIFIED:20240613T164822Z
UID:1302-1717405200-1717414200@foresthillstidalwaves.com
SUMMARY:First Swim Practice
DESCRIPTION:
URL:https://foresthillstidalwaves.com/event/first-swim-practice/
LOCATION:Forest Hills\, 4049 Skyview Drive\, Brunswick\, OH\, 44212\, United States
CATEGORIES:Team
END:VEVENT
BEGIN:VEVENT
DTSTART;TZID=America/New_York:20240604T090000
DTEND;TZID=America/New_York:20240604T113000
DTSTAMP:20260425T230857
CREATED:20240302T164244Z
LAST-MODIFIED:20240302T164902Z
UID:1431-1717491600-1717500600@foresthillstidalwaves.com
SUMMARY:First Swim Lesson
DESCRIPTION:
URL:https://foresthillstidalwaves.com/event/first-swim-lesson/
LOCATION:Forest Hills\, 4049 Skyview Drive\, Brunswick\, OH\, 44212\, United States
CATEGORIES:Lessons
END:VEVENT
BEGIN:VEVENT
DTSTART;TZID=America/New_York:20240614T090000
DTEND;TZID=America/New_York:20240614T113000
DTSTAMP:20260425T230857
CREATED:20230805T151826Z
LAST-MODIFIED:20240613T164744Z
UID:1278-1718355600-1718364600@foresthillstidalwaves.com
SUMMARY:Black and Red Meet
DESCRIPTION:The Black and Red meet is our intersquad meet that takes place during practice that helps swimmers get familiar with our meet structure.
URL:https://foresthillstidalwaves.com/event/black-and-red-meet/
LOCATION:Forest Hills\, 4049 Skyview Drive\, Brunswick\, OH\, 44212\, United States
CATEGORIES:Team
END:VEVENT
BEGIN:VEVENT
DTSTART;TZID=America/New_York:20240618T180000
DTEND;TZID=America/New_York:20240618T210000
DTSTAMP:20260425T230857
CREATED:20230805T152155Z
LAST-MODIFIED:20230805T153947Z
UID:1284-1718733600-1718744400@foresthillstidalwaves.com
SUMMARY:Meet vs Parma Heights
DESCRIPTION:Warm up at 6:00. Meet start at 6:30.
URL:https://foresthillstidalwaves.com/event/meet-vs-parma-heights-3/
LOCATION:Forest Hills\, 4049 Skyview Drive\, Brunswick\, OH\, 44212\, United States
CATEGORIES:Home meet
END:VEVENT
BEGIN:VEVENT
DTSTART;TZID=America/New_York:20240620T180000
DTEND;TZID=America/New_York:20240620T210000
DTSTAMP:20260425T230857
CREATED:20230805T152109Z
LAST-MODIFIED:20230805T153939Z
UID:1282-1718906400-1718917200@foresthillstidalwaves.com
SUMMARY:Meet vs Brecksville
DESCRIPTION:Warm ups at 6:00. Meet start at 6:30.
URL:https://foresthillstidalwaves.com/event/meet-vs-brecksville-4/
LOCATION:Forest Hills\, 4049 Skyview Drive\, Brunswick\, OH\, 44212\, United States
CATEGORIES:Home meet
END:VEVENT
BEGIN:VEVENT
DTSTART;TZID=America/New_York:20240625T180000
DTEND;TZID=America/New_York:20240625T210000
DTSTAMP:20260425T230857
CREATED:20230805T152241Z
LAST-MODIFIED:20230805T152251Z
UID:1286-1719338400-1719349200@foresthillstidalwaves.com
SUMMARY:Meet vs Parma
DESCRIPTION:Warm ups at 6:00. Meet start at 6:30.
URL:https://foresthillstidalwaves.com/event/meet-vs-parma-3/
LOCATION:Forest Hills\, 4049 Skyview Drive\, Brunswick\, OH\, 44212\, United States
CATEGORIES:Home meet
END:VEVENT
BEGIN:VEVENT
DTSTART;TZID=America/New_York:20240626T180000
DTEND;TZID=America/New_York:20240626T220000
DTSTAMP:20260425T230857
CREATED:20240302T163316Z
LAST-MODIFIED:20240611T192315Z
UID:1427-1719424800-1719439200@foresthillstidalwaves.com
SUMMARY:Team Outing
DESCRIPTION:Team outing at Swings and Things! Includes go-karts\, outdoor laser tag\, mini golf\, bumper boats\, and more! $22/person. \n8501 Stearns Road\, Olmsted Falls\, OH
URL:https://foresthillstidalwaves.com/event/team-outing/
LOCATION:OH
CATEGORIES:Key dates
END:VEVENT
BEGIN:VEVENT
DTSTART;TZID=America/New_York:20240629T083000
DTEND;TZID=America/New_York:20240629T113000
DTSTAMP:20260425T230857
CREATED:20230805T152352Z
LAST-MODIFIED:20230805T152352Z
UID:1288-1719649800-1719660600@foresthillstidalwaves.com
SUMMARY:Meet @ Parma Heights
DESCRIPTION:Warm ups at 8:30. Meet start at 8:45.
URL:https://foresthillstidalwaves.com/event/meet-parma-heights-3/
LOCATION:Parma Heights\, 6200 Pearl Road\, Parma Heights\, OH\, 44130\, United States
CATEGORIES:Away meet
END:VEVENT
END:VCALENDAR